BEGIN:VCALENDAR
VERSION:2.0
PRODID:-//ChamberMaster//Event Calendar 2.0//EN
METHOD:PUBLISH
X-PUBLISHED-TTL:P3D
REFRESH-INTERVAL:P3D
CALSCALE:GREGORIAN
BEGIN:VEVENT
DTSTART:20220925T190000Z
DTEND:20220925T210000Z
X-MICROSOFT-CDO-ALLDAYEVENT:FALSE
SUMMARY:Saline Area Social Service Grand Opening and Ribbon Cutting
DESCRIPTION:Saline Area Social Service is delighted to invite the community to an open house & ribbon cutting for their new home at 1259 Industrial Drive on Sunday\, September 25\, from 3 p.m. to 5 p.m. This is a family-friendly event with food\, games & prizes\, so bring the kids too! Learn more at https://salinesocialservice.com/open-house/
X-ALT-DESC;FMTTYPE=text/html:Saline Area Social Service is delighted to invite the community to an open house &amp\; ribbon cutting for their new home at 1259 Industrial Drive on Sunday\, September 25\, from 3 p.m. to 5 p.m. This is a family-friendly event with food\, games &amp\; prizes\, so bring the kids too! Learn more at https://salinesocialservice.com/open-house/
LOCATION:1259 Industrial Drive Saline\, Mi 48176
UID:e.3105.4017
SEQUENCE:3
DTSTAMP:20260424T165410Z
URL:https://business.salinechamber.org/events/details/saline-area-social-service-grand-opening-and-ribbon-cutting-4017
END:VEVENT

END:VCALENDAR
