BEGIN:VCALENDAR
VERSION:2.0
PRODID:-//ChamberMaster//Event Calendar 2.0//EN
METHOD:PUBLISH
X-PUBLISHED-TTL:P3D
REFRESH-INTERVAL:P3D
CALSCALE:GREGORIAN
BEGIN:VEVENT
DTSTART:20241212T163000Z
DTEND:20241212T180000Z
X-MICROSOFT-CDO-ALLDAYEVENT:FALSE
SUMMARY:Legislative Luncheon/ Small Business Summit
DESCRIPTION:Legislative Luncheon/ Small Business Summit with Rich Sheridan\n\n\n\nJoin us at City Hall for a Large Business Summit in partnership with the City of Saline! Come learn\, connect\, and enjoy a meal with fellow business professionals! This event is FREE for all businesses with 50+ employees! \n\n\n\nAbout Rich:\nRichard Sheridan entrepreneur\, business leader and author is best known as the co-founder\, CEO and "Chief Storyteller" of Menlo Innovations\, a software and IT consulting firm that has earned numerous awards and press coverage for its innovative and positive workplace culture.\n\nRich and his message of joyful leadership have been featured in press outlets ranging from Inc\, Forbes and New York magazines to Bloomberg\, U.S. News & World Report\, NPR's On Point podcast\, NPR's All Things Considered\, and the Harvard Business Review. Rich was inducted into the Shingo Academy in 2022 for his work supporting the principles of organizational excellence.
X-ALT-DESC;FMTTYPE=text/html:Legislative Luncheon/ Small Business Summit with Rich Sheridan<br />\n<br />\nJoin us at City Hall for a Large Business Summit in partnership with the City of Saline! Come learn\, connect\, and enjoy a meal with fellow business professionals! This event is FREE for all businesses with 50+ employees!&nbsp\;<br />\n<br />\nAbout Rich:\n<p style="box-sizing: border-box\; -webkit-font-smoothing: antialiased\; margin: 0px 0px 32px\; color: rgb(0\, 0\, 0)\; font-family: &quot\;Open Sans&quot\;\, sans-serif\; font-size: 18px\;">Richard Sheridan&mdash\;entrepreneur\, business leader and author&mdash\;is best known as the co-founder\, CEO and &ldquo\;Chief Storyteller&rdquo\; of&nbsp\;<a href="https://menloinnovations.com/" style="box-sizing: border-box\; -webkit-font-smoothing: antialiased\; background-color: transparent\; color: rgb(70\, 130\, 221)\; display: inline\; cursor: pointer\; outline: transparent dashed 1px\; transition: 0.25s\;" target="_blank">Menlo Innovations</a>\, a software and IT consulting firm that has earned numerous awards and press coverage for its innovative and positive workplace culture.</p>\n\n<p style="box-sizing: border-box\; -webkit-font-smoothing: antialiased\; margin: 0px\; color: rgb(0\, 0\, 0)\; font-family: &quot\;Open Sans&quot\;\, sans-serif\; font-size: 18px\;">Rich and his message of joyful leadership have been featured in press outlets ranging from Inc\, Forbes and New York magazines to Bloomberg\, U.S. News &amp\; World Report\, NPR&rsquo\;s On Point podcast\, NPR&rsquo\;s All Things Considered\, and the Harvard Business Review. Rich was inducted into the Shingo Academy in 2022 for his work supporting the principles of organizational excellence.</p>\n
LOCATION:City of Saline 100 N Harris Street Saline\, MI 48176
UID:e.3105.6043
SEQUENCE:3
DTSTAMP:20260419T191959Z
URL:https://business.salinechamber.org/events/details/legislative-luncheon-small-business-summit-6043
END:VEVENT

END:VCALENDAR
