BEGIN:VCALENDAR
VERSION:2.0
PRODID:-//ChamberMaster//Event Calendar 2.0//EN
METHOD:PUBLISH
X-PUBLISHED-TTL:P3D
REFRESH-INTERVAL:P3D
CALSCALE:GREGORIAN
BEGIN:VEVENT
DTSTART:20251030T120000Z
DTEND:20251030T133000Z
X-MICROSOFT-CDO-ALLDAYEVENT:FALSE
SUMMARY:Ignite your Leadership!
DESCRIPTION:The Saline Area Chamber and Equip the Leader are teaming up to live out the Chamber's value of leadership by offering members practical\, high-impact development opportunities.\n\n\n\nSession Overview\n\nThis isn't your typical "sit and take notes" workshop.\n\nIt's a hands-on\, interactive leadership experience that brings people together for real learning and connection.\n\n \n\nParticipants will:\n\n	Engage in fun connection activities that break down barriers and spark curiosity\n	Learn to identify and understand different communication and personality styles\n	Explore how curiosity (instead of judgment) transforms team dynamics\n	Walk away with practical tools and a clear next step to apply in their business and daily interactions\n\n This session combines personal insight with group discussion\, so attendees can both learn and practice what they discover   leaving inspired\, equipped\, and ready to lead with greater intention.\n\n\n\nWhat Attendees Can Expect\n\n\n	A high-energy\, participatory format   no boring slides or lectures\n	Real-world application to both personal and professional life\n	A welcoming environment to connect with other Chamber members\n	Actionable takeaways to strengthen their communication and culture
X-ALT-DESC;FMTTYPE=text/html:<span style="font-family:arial\;"><span style="font-size:14.5pt\;">The Saline Area Chamber and Equip the Leader are teaming up to live out the Chamber&rsquo\;s value of leadership by offering members practical\, high-impact development opportunities.</span><br />\n<br />\n<span style="font-size:22px\;"><strong>Session Overview</strong></span><br />\n<span style="font-size:14.5pt\;">This isn&rsquo\;t your typical &ldquo\;sit and take notes&rdquo\; workshop.</span><br />\n<span style="font-kerning:none\;"><span style="font-size:14.5pt\;">It&rsquo\;s a hands-on\, interactive leadership experience that brings people together for real learning and connection.</span></span><br />\n&nbsp\;<br />\n<strong><span style="font-kerning:none\;"><span style="font-size:14.5pt\;">Participants will:</span></span></strong></span>\n<ul>\n	<li style="margin-bottom:9.0pt\;font-variant-caps:normal\;font-size-adjust:none\;font-kerning:auto\;font-variant-alternates:normal\;font-variant-ligatures:normal\;font-variant-numeric:normal\;font-variant-east-asian:normal\;font-feature-settings:normal\;"><span style="font-family:arial\;"><span style="font-kerning:none\;"><span style="font-size:14.5pt\;">Engage in fun connection activities that break down barriers and spark curiosity</span></span></span></li>\n	<li style="margin-bottom:9.0pt\;font-variant-caps:normal\;font-size-adjust:none\;font-kerning:auto\;font-variant-alternates:normal\;font-variant-ligatures:normal\;font-variant-numeric:normal\;font-variant-east-asian:normal\;font-feature-settings:normal\;"><span style="font-family:arial\;"><span style="font-kerning:none\;"><span style="font-size:14.5pt\;">Learn to identify and understand different communication and personality styles</span></span></span></li>\n	<li style="margin-bottom:9.0pt\;font-variant-caps:normal\;font-size-adjust:none\;font-kerning:auto\;font-variant-alternates:normal\;font-variant-ligatures:normal\;font-variant-numeric:normal\;font-variant-east-asian:normal\;font-feature-settings:normal\;"><span style="font-family:arial\;"><span style="font-kerning:none\;"><span style="font-size:14.5pt\;">Explore how curiosity (instead of judgment) transforms team dynamics</span></span></span></li>\n	<li style="margin-bottom:9.0pt\;font-variant-caps:normal\;font-size-adjust:none\;font-kerning:auto\;font-variant-alternates:normal\;font-variant-ligatures:normal\;font-variant-numeric:normal\;font-variant-east-asian:normal\;font-feature-settings:normal\;"><span style="font-family:arial\;"><span style="font-kerning:none\;"><span style="font-size:14.5pt\;">Walk away with practical tools and a clear next step to apply in their business and daily interactions</span></span></span></li>\n</ul>\n<span style="font-family:arial\;"> <span style="font-size:14.5pt\;">This session combines personal insight with group discussion\, so attendees can both learn and practice what they discover &mdash\; leaving inspired\, equipped\, and ready to lead with greater intention.</span><br />\n<br />\n<strong><span style="font-kerning:none\;"><span style="font-kerning:none\;"><span style="font-size:18px\;">What Attendees Can Expect</span></span></span></strong></span>\n\n<ul>\n	<li style="margin-bottom:9.0pt\;font-variant-caps:normal\;font-size-adjust:none\;font-kerning:auto\;font-variant-alternates:normal\;font-variant-ligatures:normal\;font-variant-numeric:normal\;font-variant-east-asian:normal\;font-feature-settings:normal\;"><span style="font-family:arial\;"><span style="font-size:14.5pt\;"><span style="font-kerning:none\;">A high-energy\, participatory format &mdash\; no boring slides or lectures</span></span></span></li>\n	<li style="margin-bottom:9.0pt\;font-variant-caps:normal\;font-size-adjust:none\;font-kerning:auto\;font-variant-alternates:normal\;font-variant-ligatures:normal\;font-variant-numeric:normal\;font-variant-east-asian:normal\;font-feature-settings:normal\;"><span style="font-family:arial\;"><span style="font-kerning:none\;"><span style="font-size:14.5pt\;">Real-world application to both personal and professional life</span></span></span></li>\n	<li style="margin-bottom:9.0pt\;font-variant-caps:normal\;font-size-adjust:none\;font-kerning:auto\;font-variant-alternates:normal\;font-variant-ligatures:normal\;font-variant-numeric:normal\;font-variant-east-asian:normal\;font-feature-settings:normal\;"><span style="font-family:arial\;"><span style="font-kerning:none\;"><span style="font-size:14.5pt\;">A welcoming environment to connect with other Chamber members</span></span></span></li>\n	<li style="margin-bottom:9.0pt\;font-variant-caps:normal\;font-size-adjust:none\;font-kerning:auto\;font-variant-alternates:normal\;font-variant-ligatures:normal\;font-variant-numeric:normal\;font-variant-east-asian:normal\;font-feature-settings:normal\;"><span style="font-family:arial\;"><span style="font-kerning:none\;"><span style="font-size:14.5pt\;">Actionable takeaways to strengthen their communication and culture</span></span></span></li>\n</ul>\n
LOCATION:EHM Professional Building Office Entrance A 400 W. Russell Street Saline\, MI 48176
UID:e.3105.6835
SEQUENCE:3
DTSTAMP:20260420T041156Z
URL:https://business.salinechamber.org/events/details/ignite-your-leadership-6835
END:VEVENT

END:VCALENDAR
